BEGIN:VCALENDAR
VERSION:2.0
PRODID:-//Mascus Blog Português - ECPv6.15.17//NONSGML v1.0//EN
CALSCALE:GREGORIAN
METHOD:PUBLISH
X-ORIGINAL-URL:https://blog.mascus.pt
X-WR-CALDESC:Eventos para Mascus Blog Português
REFRESH-INTERVAL;VALUE=DURATION:PT1H
X-Robots-Tag:noindex
X-PUBLISHED-TTL:PT1H
BEGIN:VTIMEZONE
TZID:UTC
BEGIN:STANDARD
TZOFFSETFROM:+0000
TZOFFSETTO:+0000
TZNAME:UTC
DTSTART:20180101T000000
END:STANDARD
END:VTIMEZONE
BEGIN:VEVENT
DTSTART;VALUE=DATE:20190514
DTEND;VALUE=DATE:20190517
DTSTAMP:20260425T191926
CREATED:20181228T130252Z
LAST-MODIFIED:20181228T130252Z
UID:388-1557792000-1558051199@blog.mascus.pt
SUMMARY:Autostrada - Polska
DESCRIPTION:Ana Maria JurcaCommunications Specialist & Social Media Manager at Mascus
URL:https://blog.mascus.pt/fair/autostrada-polska/
LOCATION:PL\, Poland
CATEGORIES:Construction
END:VEVENT
BEGIN:VEVENT
DTSTART;VALUE=DATE:20190510
DTEND;VALUE=DATE:20190513
DTSTAMP:20260425T191926
CREATED:20181228T130247Z
LAST-MODIFIED:20181228T130247Z
UID:379-1557446400-1557705599@blog.mascus.pt
SUMMARY:MEFA 2019
DESCRIPTION:Ana Maria JurcaCommunications Specialist & Social Media Manager at Mascus
URL:https://blog.mascus.pt/fair/mefa-2019/
LOCATION:NO\, Norway
CATEGORIES:Construction
END:VEVENT
BEGIN:VEVENT
DTSTART;VALUE=DATE:20190510
DTEND;VALUE=DATE:20190513
DTSTAMP:20260425T191926
CREATED:20181228T130244Z
LAST-MODIFIED:20181228T130244Z
UID:374-1557446400-1557705599@blog.mascus.pt
SUMMARY:Baltijos miškai
DESCRIPTION:Ana Maria JurcaCommunications Specialist & Social Media Manager at Mascus
URL:https://blog.mascus.pt/fair/baltijos-miskai/
LOCATION:LT\, Lithuania
CATEGORIES:Forestry
END:VEVENT
BEGIN:VEVENT
DTSTART;VALUE=DATE:20190509
DTEND;VALUE=DATE:20190513
DTSTAMP:20260425T191926
CREATED:20181228T130234Z
LAST-MODIFIED:20181228T130234Z
UID:356-1557360000-1557705599@blog.mascus.pt
SUMMARY:BraLa Landwirtschaftsmesse
DESCRIPTION:Ana Maria JurcaCommunications Specialist & Social Media Manager at Mascus
URL:https://blog.mascus.pt/fair/brala-landwirtschaftsmesse/
LOCATION:DE\, Germany
CATEGORIES:Agriculture
END:VEVENT
BEGIN:VEVENT
DTSTART;VALUE=DATE:20190509
DTEND;VALUE=DATE:20190512
DTSTAMP:20260425T191926
CREATED:20181228T130220Z
LAST-MODIFIED:20181228T130220Z
UID:332-1557360000-1557619199@blog.mascus.pt
SUMMARY:Kuljetus ja Logistiikka 2019
DESCRIPTION:Ana Maria JurcaCommunications Specialist & Social Media Manager at Mascus
URL:https://blog.mascus.pt/fair/kuljetus-ja-logistiikka-2019/
LOCATION:FI\, Finland
CATEGORIES:Transport
END:VEVENT
BEGIN:VEVENT
DTSTART;VALUE=DATE:20190425
DTEND;VALUE=DATE:20190429
DTSTAMP:20260425T191926
CREATED:20181228T130229Z
LAST-MODIFIED:20181228T130229Z
UID:348-1556150400-1556495999@blog.mascus.pt
SUMMARY:agra
DESCRIPTION:Ana Maria JurcaCommunications Specialist & Social Media Manager at Mascus
URL:https://blog.mascus.pt/fair/agra/
LOCATION:DE\, Germany
CATEGORIES:Agriculture
END:VEVENT
BEGIN:VEVENT
DTSTART;VALUE=DATE:20190425
DTEND;VALUE=DATE:20190428
DTSTAMP:20260425T191926
CREATED:20181228T130219Z
LAST-MODIFIED:20181228T130219Z
UID:331-1556150400-1556409599@blog.mascus.pt
SUMMARY:Maamess
DESCRIPTION:Ana Maria JurcaCommunications Specialist & Social Media Manager at Mascus
URL:https://blog.mascus.pt/fair/maamess/
LOCATION:EE\, Estonia
CATEGORIES:Agriculture
END:VEVENT
BEGIN:VEVENT
DTSTART;VALUE=DATE:20190424
DTEND;VALUE=DATE:20190428
DTSTAMP:20260425T191926
CREATED:20181228T130243Z
LAST-MODIFIED:20181228T130243Z
UID:373-1556064000-1556409599@blog.mascus.pt
SUMMARY:Resta 2019
DESCRIPTION:Ana Maria JurcaCommunications Specialist & Social Media Manager at Mascus
URL:https://blog.mascus.pt/fair/resta-2019/
LOCATION:LT\, Lithuania
CATEGORIES:Construction
END:VEVENT
BEGIN:VEVENT
DTSTART;VALUE=DATE:20190422
DTEND;VALUE=DATE:20190425
DTSTAMP:20260425T191926
CREATED:20181228T130214Z
LAST-MODIFIED:20181228T130214Z
UID:322-1555891200-1556150399@blog.mascus.pt
SUMMARY:2019中国（上海）国际智慧港口建设与装备展览会 PORTS China 2019
DESCRIPTION:Ana Maria JurcaCommunications Specialist & Social Media Manager at Mascus
URL:https://blog.mascus.pt/fair/2019%e4%b8%ad%e5%9b%bd%ef%bc%88%e4%b8%8a%e6%b5%b7%ef%bc%89%e5%9b%bd%e9%99%85%e6%99%ba%e6%85%a7%e6%b8%af%e5%8f%a3%e5%bb%ba%e8%ae%be%e4%b8%8e%e8%a3%85%e5%a4%87%e5%b1%95%e8%a7%88%e4%bc%9a-ports-china-201/
LOCATION:CN\, China
CATEGORIES:Construction
END:VEVENT
BEGIN:VEVENT
DTSTART;VALUE=DATE:20190417
DTEND;VALUE=DATE:20190421
DTSTAMP:20260425T191926
CREATED:20181228T130300Z
LAST-MODIFIED:20181228T130300Z
UID:402-1555459200-1555804799@blog.mascus.pt
SUMMARY:Međunarodni sajam građevinarstva SEBBE 2019
DESCRIPTION:Ana Maria JurcaCommunications Specialist & Social Media Manager at Mascus
URL:https://blog.mascus.pt/fair/medunarodni-sajam-gradevinarstva-sebbe-2019/
LOCATION:RS\, Serbia
CATEGORIES:Construction
END:VEVENT
BEGIN:VEVENT
DTSTART;VALUE=DATE:20190412
DTEND;VALUE=DATE:20190415
DTSTAMP:20260425T191926
CREATED:20181228T130301Z
LAST-MODIFIED:20181228T130301Z
UID:403-1555027200-1555286399@blog.mascus.pt
SUMMARY:Spomladanski kmetijsko obrtni sejem Komenda 2019
DESCRIPTION:Ana Maria JurcaCommunications Specialist & Social Media Manager at Mascus
URL:https://blog.mascus.pt/fair/spomladanski-kmetijsko-obrtni-sejem-komenda-2019/
LOCATION:SI\, Slovenia
CATEGORIES:Agriculture,Construction,Forestry
END:VEVENT
BEGIN:VEVENT
DTSTART;VALUE=DATE:20190411
DTEND;VALUE=DATE:20190414
DTSTAMP:20260425T191926
CREATED:20181228T130241Z
LAST-MODIFIED:20181228T130241Z
UID:369-1554940800-1555199999@blog.mascus.pt
SUMMARY:"Pavasaris" 2019. RAMAVA
DESCRIPTION:Ana Maria JurcaCommunications Specialist & Social Media Manager at Mascus
URL:https://blog.mascus.pt/fair/pavasaris-2019-ramava/
LOCATION:LV\, Latvia
CATEGORIES:Agriculture
END:VEVENT
BEGIN:VEVENT
DTSTART;VALUE=DATE:20190408
DTEND;VALUE=DATE:20190415
DTSTAMP:20260425T191926
CREATED:20181228T130226Z
LAST-MODIFIED:20181228T130226Z
UID:342-1554681600-1555286399@blog.mascus.pt
SUMMARY:bauma
DESCRIPTION:Ana Maria JurcaCommunications Specialist & Social Media Manager at Mascus
URL:https://blog.mascus.pt/fair/bauma/
LOCATION:DE\, Germany
CATEGORIES:Construction
END:VEVENT
BEGIN:VEVENT
DTSTART;VALUE=DATE:20190404
DTEND;VALUE=DATE:20190407
DTSTAMP:20260425T191926
CREATED:20181228T130243Z
LAST-MODIFIED:20181228T130243Z
UID:371-1554336000-1554595199@blog.mascus.pt
SUMMARY:Ką pasėsi
DESCRIPTION:Ana Maria JurcaCommunications Specialist & Social Media Manager at Mascus
URL:https://blog.mascus.pt/fair/ka-pasesi/
LOCATION:LT\, Lithuania
CATEGORIES:Agriculture
END:VEVENT
BEGIN:VEVENT
DTSTART;VALUE=DATE:20190329
DTEND;VALUE=DATE:20190401
DTSTAMP:20260425T191926
CREATED:20181228T130238Z
LAST-MODIFIED:20181228T130238Z
UID:364-1553817600-1554076799@blog.mascus.pt
SUMMARY:Agriumbria
DESCRIPTION:Ana Maria JurcaCommunications Specialist & Social Media Manager at Mascus
URL:https://blog.mascus.pt/fair/agriumbria/
LOCATION:IT\, Italy
CATEGORIES:Agriculture
END:VEVENT
BEGIN:VEVENT
DTSTART;VALUE=DATE:20190326
DTEND;VALUE=DATE:20190329
DTSTAMP:20260425T191926
CREATED:20181228T130245Z
LAST-MODIFIED:20181228T130245Z
UID:375-1553558400-1553817599@blog.mascus.pt
SUMMARY:Transport Compleet
DESCRIPTION:Ana Maria JurcaCommunications Specialist & Social Media Manager at Mascus
URL:https://blog.mascus.pt/fair/transport-compleet/
LOCATION:NL\, Netherlands
CATEGORIES:Transport
END:VEVENT
BEGIN:VEVENT
DTSTART;VALUE=DATE:20190315
DTEND;VALUE=DATE:20190318
DTSTAMP:20260425T191926
CREATED:20181228T130252Z
LAST-MODIFIED:20181228T130252Z
UID:387-1552608000-1552867199@blog.mascus.pt
SUMMARY:Agrotech
DESCRIPTION:Ana Maria JurcaCommunications Specialist & Social Media Manager at Mascus
URL:https://blog.mascus.pt/fair/agrotech/
LOCATION:PL\, Poland
CATEGORIES:Agriculture
END:VEVENT
BEGIN:VEVENT
DTSTART;VALUE=DATE:20190313
DTEND;VALUE=DATE:20190316
DTSTAMP:20260425T191926
CREATED:20181228T130251Z
LAST-MODIFIED:20181228T130251Z
UID:386-1552435200-1552694399@blog.mascus.pt
SUMMARY:Międzynarodowe Targi Transportu i Logistyki
DESCRIPTION:Ana Maria JurcaCommunications Specialist & Social Media Manager at Mascus
URL:https://blog.mascus.pt/fair/miedzynarodowe-targi-transportu-i-logistyki/
LOCATION:PL\, Poland
CATEGORIES:Transport
END:VEVENT
BEGIN:VEVENT
DTSTART;VALUE=DATE:20190308
DTEND;VALUE=DATE:20190311
DTSTAMP:20260425T191926
CREATED:20181228T130232Z
LAST-MODIFIED:20181228T130232Z
UID:353-1552003200-1552262399@blog.mascus.pt
SUMMARY:Landes Bau Ausstellung
DESCRIPTION:Ana Maria JurcaCommunications Specialist & Social Media Manager at Mascus
URL:https://blog.mascus.pt/fair/landes-bau-ausstellung/
LOCATION:DE\, Germany
CATEGORIES:Construction
END:VEVENT
BEGIN:VEVENT
DTSTART;VALUE=DATE:20190228
DTEND;VALUE=DATE:20190304
DTSTAMP:20260425T191926
CREATED:20181228T130236Z
LAST-MODIFIED:20181228T130236Z
UID:360-1551312000-1551657599@blog.mascus.pt
SUMMARY:Agrothesaly
DESCRIPTION:Ana Maria JurcaCommunications Specialist & Social Media Manager at Mascus
URL:https://blog.mascus.pt/fair/agrothesaly/
LOCATION:GR\, Greece
CATEGORIES:Agriculture
END:VEVENT
BEGIN:VEVENT
DTSTART;VALUE=DATE:20190226
DTEND;VALUE=DATE:20190301
DTSTAMP:20260425T191926
CREATED:20181228T130213Z
LAST-MODIFIED:20181228T130213Z
UID:321-1551139200-1551398399@blog.mascus.pt
SUMMARY:2019 The 14th China(Shandong)International Agricultural Machinery Exhibition
DESCRIPTION:Ana Maria JurcaCommunications Specialist & Social Media Manager at Mascus
URL:https://blog.mascus.pt/fair/2019-the-14th-chinashandonginternational-agricultural-machinery-exhibition/
LOCATION:CN\, China
CATEGORIES:Agriculture
END:VEVENT
BEGIN:VEVENT
DTSTART;VALUE=DATE:20190224
DTEND;VALUE=DATE:20190301
DTSTAMP:20260425T191926
CREATED:20181228T130222Z
LAST-MODIFIED:20181228T130222Z
UID:336-1550966400-1551398399@blog.mascus.pt
SUMMARY:SIMA
DESCRIPTION:Ana Maria JurcaCommunications Specialist & Social Media Manager at Mascus
URL:https://blog.mascus.pt/fair/sima/
LOCATION:FR\, France
CATEGORIES:Agriculture
END:VEVENT
BEGIN:VEVENT
DTSTART;VALUE=DATE:20190221
DTEND;VALUE=DATE:20190225
DTSTAMP:20260425T191926
CREATED:20181228T130238Z
LAST-MODIFIED:20181228T130238Z
UID:363-1550707200-1551052799@blog.mascus.pt
SUMMARY:Transpotec
DESCRIPTION:Ana Maria JurcaCommunications Specialist & Social Media Manager at Mascus
URL:https://blog.mascus.pt/fair/transpotec/
LOCATION:IT\, Italy
CATEGORIES:Transport
END:VEVENT
BEGIN:VEVENT
DTSTART;VALUE=DATE:20190219
DTEND;VALUE=DATE:20190223
DTSTAMP:20260425T191926
CREATED:20181228T130225Z
LAST-MODIFIED:20181228T130225Z
UID:341-1550534400-1550879999@blog.mascus.pt
SUMMARY:VDBUM Großseminar
DESCRIPTION:Ana Maria JurcaCommunications Specialist & Social Media Manager at Mascus
URL:https://blog.mascus.pt/fair/vdbum-grosseminar/
LOCATION:DE\, Germany
CATEGORIES:Construction
END:VEVENT
BEGIN:VEVENT
DTSTART;VALUE=DATE:20190219
DTEND;VALUE=DATE:20190222
DTSTAMP:20260425T191926
CREATED:20181228T130224Z
LAST-MODIFIED:20181228T130224Z
UID:340-1550534400-1550793599@blog.mascus.pt
SUMMARY:LogiMAT
DESCRIPTION:Ana Maria JurcaCommunications Specialist & Social Media Manager at Mascus
URL:https://blog.mascus.pt/fair/logimat/
LOCATION:DE\, Germany
CATEGORIES:Material Handling
END:VEVENT
BEGIN:VEVENT
DTSTART;VALUE=DATE:20190215
DTEND;VALUE=DATE:20190218
DTSTAMP:20260425T191926
CREATED:20181228T130235Z
LAST-MODIFIED:20181228T130235Z
UID:359-1550188800-1550447999@blog.mascus.pt
SUMMARY:Elec-tec
DESCRIPTION:Ana Maria JurcaCommunications Specialist & Social Media Manager at Mascus
URL:https://blog.mascus.pt/fair/elec-tec/
LOCATION:GR\, Greece
CATEGORIES:Material Handling
END:VEVENT
BEGIN:VEVENT
DTSTART;VALUE=DATE:20190215
DTEND;VALUE=DATE:20190218
DTSTAMP:20260425T191926
CREATED:20181228T130231Z
LAST-MODIFIED:20181228T130231Z
UID:352-1550188800-1550447999@blog.mascus.pt
SUMMARY:Abbruchtage Berlin
DESCRIPTION:Ana Maria JurcaCommunications Specialist & Social Media Manager at Mascus
URL:https://blog.mascus.pt/fair/abbruchtage-berlin/
LOCATION:DE\, Germany
CATEGORIES:Construcion
END:VEVENT
BEGIN:VEVENT
DTSTART;VALUE=DATE:20190209
DTEND;VALUE=DATE:20190211
DTSTAMP:20260425T191926
CREATED:20181228T130250Z
LAST-MODIFIED:20181228T130250Z
UID:385-1549670400-1549843199@blog.mascus.pt
SUMMARY:Mazurskie Agroshow
DESCRIPTION:Ana Maria JurcaCommunications Specialist & Social Media Manager at Mascus
URL:https://blog.mascus.pt/fair/mazurskie-agroshow/
LOCATION:PL\, Poland
CATEGORIES:Agriculture
END:VEVENT
BEGIN:VEVENT
DTSTART;VALUE=DATE:20190207
DTEND;VALUE=DATE:20190211
DTSTAMP:20260425T191926
CREATED:20181228T130224Z
LAST-MODIFIED:20181228T130224Z
UID:339-1549497600-1549843199@blog.mascus.pt
SUMMARY:Baumag
DESCRIPTION:Ana Maria JurcaCommunications Specialist & Social Media Manager at Mascus
URL:https://blog.mascus.pt/fair/baumag/
LOCATION:DE\, Germany
CATEGORIES:Construction
END:VEVENT
BEGIN:VEVENT
DTSTART;VALUE=DATE:20190201
DTEND;VALUE=DATE:20190204
DTSTAMP:20260425T191926
CREATED:20181228T130250Z
LAST-MODIFIED:20181228T130250Z
UID:384-1548979200-1549238399@blog.mascus.pt
SUMMARY:Centralne Targi Rolnicze
DESCRIPTION:Ana Maria JurcaCommunications Specialist & Social Media Manager at Mascus
URL:https://blog.mascus.pt/fair/centralne-targi-rolnicze/
LOCATION:PL\, Poland
CATEGORIES:Agriculture
END:VEVENT
END:VCALENDAR